Package: CAGEfightR Version: 1.24.0 Command: /home/biocbuild/bbs-3.19-bioc/R/bin/R CMD check --install=check:CAGEfightR.install-out.txt --library=/home/biocbuild/bbs-3.19-bioc/R/site-library --timings CAGEfightR_1.24.0.tar.gz StartedAt: 2024-10-16 22:23:47 -0400 (Wed, 16 Oct 2024) EndedAt: 2024-10-16 22:33:00 -0400 (Wed, 16 Oct 2024) EllapsedTime: 552.3 seconds RetCode: 0 Status: OK CheckDir: CAGEfightR.Rcheck Warnings: 0