Package: CAGEfightR Version: 1.24.0 Command: chmod a+r CAGEfightR -R && E:\biocbuild\bbs-3.19-bioc\R\bin\R.exe CMD build --keep-empty-dirs --no-resave-data CAGEfightR StartedAt: 2024-10-16 17:59:57 -0400 (Wed, 16 Oct 2024) EndedAt: 2024-10-16 18:05:55 -0400 (Wed, 16 Oct 2024) EllapsedTime: 357.8 seconds RetCode: 0 Status: OK PackageFile: CAGEfightR_1.24.0.tar.gz PackageFileSize: 1.568 MiB