Package: CAMERA Version: 1.60.0 Command: /Library/Frameworks/R.framework/Resources/bin/R CMD build --keep-empty-dirs --no-resave-data CAMERA StartedAt: 2024-10-16 17:40:36 -0400 (Wed, 16 Oct 2024) EndedAt: 2024-10-16 17:43:49 -0400 (Wed, 16 Oct 2024) EllapsedTime: 193.2 seconds RetCode: 0 Status: OK PackageFile: CAMERA_1.60.0.tar.gz PackageFileSize: 2.424 MiB