Package: CAMERA Version: 1.60.0 Command: /Library/Frameworks/R.framework/Resources/bin/R CMD check --install=check:CAMERA.install-out.txt --library=/Library/Frameworks/R.framework/Resources/library --no-vignettes --timings CAMERA_1.60.0.tar.gz StartedAt: 2024-10-17 02:13:52 -0400 (Thu, 17 Oct 2024) EndedAt: 2024-10-17 02:14:01 -0400 (Thu, 17 Oct 2024) EllapsedTime: 8.5 seconds RetCode: 1 Status: ERROR CheckDir: CAMERA.Rcheck Warnings: NA