Package: CAMERA Version: 1.60.0 Command: /Library/Frameworks/R.framework/Resources/bin/R CMD INSTALL CAMERA StartedAt: 2024-10-16 16:13:44 -0400 (Wed, 16 Oct 2024) EndedAt: 2024-10-16 16:15:48 -0400 (Wed, 16 Oct 2024) EllapsedTime: 123.2 seconds RetCode: 0 Status: OK