Package: CARNIVAL Version: 2.14.0 Maintainer: Attila Gabor MaintainerEmail: attila.gabor at uni-heidelberg.de git_url: https://git.bioconductor.org/packages/CARNIVAL git_branch: RELEASE_3_19 git_last_commit: bcf3cbc git_last_commit_date: 2024-04-30 11:23:36 -0400 (Tue, 30 Apr 2024)