Package: CARNIVAL Version: 2.14.0 Command: rm -rf CARNIVAL.buildbin-libdir && mkdir CARNIVAL.buildbin-libdir && /Users/biocbuild/BBS/utils/build-universal.sh CARNIVAL_2.14.0.tar.gz /Library/Frameworks/R.framework/Resources/bin/R CARNIVAL.buildbin-libdir StartedAt: 2024-06-10 00:09:51 -0400 (Mon, 10 Jun 2024) EndedAt: 2024-06-10 00:10:02 -0400 (Mon, 10 Jun 2024) EllapsedTime: 10.1 seconds RetCode: 0 Status: OK PackageFile: CARNIVAL_2.14.0.tgz PackageFileSize: 415.2 KiB