Package: CARNIVAL Version: 2.14.0 Command: /Library/Frameworks/R.framework/Resources/bin/R CMD INSTALL CARNIVAL StartedAt: 2024-06-09 15:17:30 -0400 (Sun, 09 Jun 2024) EndedAt: 2024-06-09 15:17:38 -0400 (Sun, 09 Jun 2024) EllapsedTime: 8.5 seconds RetCode: 0 Status: OK