Package: CARNIVAL Version: 2.14.0 Command: rm -rf CARNIVAL.buildbin-libdir && mkdir CARNIVAL.buildbin-libdir && E:\biocbuild\bbs-3.19-bioc\R\bin\R.exe CMD INSTALL --build --library=CARNIVAL.buildbin-libdir CARNIVAL_2.14.0.tar.gz StartedAt: 2024-10-17 07:28:53 -0400 (Thu, 17 Oct 2024) EndedAt: 2024-10-17 07:29:26 -0400 (Thu, 17 Oct 2024) EllapsedTime: 33.0 seconds RetCode: 0 Status: OK PackageFile: CARNIVAL_2.14.0.zip PackageFileSize: 420.8 KiB