Package: CARNIVAL Version: 2.14.0 Command: E:\biocbuild\bbs-3.19-bioc\R\bin\R.exe CMD INSTALL CARNIVAL StartedAt: 2024-10-16 16:38:40 -0400 (Wed, 16 Oct 2024) EndedAt: 2024-10-16 16:39:10 -0400 (Wed, 16 Oct 2024) EllapsedTime: 30.1 seconds RetCode: 0 Status: OK