Package: CCPROMISE Version: 1.30.0 Command: /Library/Frameworks/R.framework/Resources/bin/R CMD check --install=check:CCPROMISE.install-out.txt --library=/Library/Frameworks/R.framework/Resources/library --no-vignettes --timings CCPROMISE_1.30.0.tar.gz StartedAt: 2024-10-17 15:20:27 -0400 (Thu, 17 Oct 2024) EndedAt: 2024-10-17 15:24:32 -0400 (Thu, 17 Oct 2024) EllapsedTime: 245.0 seconds RetCode: 0 Status: WARNINGS CheckDir: CCPROMISE.Rcheck Warnings: 1