Package: CCPROMISE Version: 1.30.0 Command: /Library/Frameworks/R.framework/Resources/bin/R CMD check --install=check:CCPROMISE.install-out.txt --library=/Library/Frameworks/R.framework/Resources/library --no-vignettes --timings CCPROMISE_1.30.0.tar.gz StartedAt: 2024-10-17 02:23:11 -0400 (Thu, 17 Oct 2024) EndedAt: 2024-10-17 02:29:14 -0400 (Thu, 17 Oct 2024) EllapsedTime: 362.8 seconds RetCode: 0 Status: WARNINGS CheckDir: CCPROMISE.Rcheck Warnings: 1