Package: CCPROMISE Version: 1.30.0 Command: rm -rf CCPROMISE.buildbin-libdir && mkdir CCPROMISE.buildbin-libdir && E:\biocbuild\bbs-3.19-bioc\R\bin\R.exe CMD INSTALL --build --library=CCPROMISE.buildbin-libdir CCPROMISE_1.30.0.tar.gz StartedAt: 2024-10-17 07:29:42 -0400 (Thu, 17 Oct 2024) EndedAt: 2024-10-17 07:30:06 -0400 (Thu, 17 Oct 2024) EllapsedTime: 24.4 seconds RetCode: 0 Status: OK PackageFile: CCPROMISE_1.30.0.zip PackageFileSize: 1.084 MiB