Package: CCPlotR Version: 1.2.0 Command: /Library/Frameworks/R.framework/Resources/bin/R CMD INSTALL CCPlotR StartedAt: 2024-06-09 16:08:17 -0400 (Sun, 09 Jun 2024) EndedAt: 2024-06-09 16:08:36 -0400 (Sun, 09 Jun 2024) EllapsedTime: 19.7 seconds RetCode: 0 Status: OK