Package: CCPlotR Version: 1.2.0 Command: rm -rf CCPlotR.buildbin-libdir && mkdir CCPlotR.buildbin-libdir && /Users/biocbuild/BBS/utils/build-universal.sh CCPlotR_1.2.0.tar.gz /Library/Frameworks/R.framework/Resources/bin/R CCPlotR.buildbin-libdir StartedAt: 2024-06-10 00:10:05 -0400 (Mon, 10 Jun 2024) EndedAt: 2024-06-10 00:10:24 -0400 (Mon, 10 Jun 2024) EllapsedTime: 19.1 seconds RetCode: 0 Status: OK PackageFile: CCPlotR_1.2.0.tgz PackageFileSize: 2.702 MiB