Package: CCPlotR Version: 1.2.0 Command: rm -rf CCPlotR.buildbin-libdir && mkdir CCPlotR.buildbin-libdir && /Users/biocbuild/BBS/utils/build-universal.sh CCPlotR_1.2.0.tar.gz /Library/Frameworks/R.framework/Resources/bin/R CCPlotR.buildbin-libdir StartedAt: 2024-10-17 15:48:04 -0400 (Thu, 17 Oct 2024) EndedAt: 2024-10-17 15:48:37 -0400 (Thu, 17 Oct 2024) EllapsedTime: 33.0 seconds RetCode: 0 Status: OK PackageFile: CCPlotR_1.2.0.tgz PackageFileSize: 2.702 MiB