Package: CCPlotR Version: 1.2.0 Command: /Library/Frameworks/R.framework/Resources/bin/R CMD build --keep-empty-dirs --no-resave-data CCPlotR StartedAt: 2024-10-16 17:44:51 -0400 (Wed, 16 Oct 2024) EndedAt: 2024-10-16 17:46:12 -0400 (Wed, 16 Oct 2024) EllapsedTime: 80.9 seconds RetCode: 0 Status: OK PackageFile: CCPlotR_1.2.0.tar.gz PackageFileSize: 4.889 MiB