Package: CCPlotR Version: 1.2.0 Command: E:\biocbuild\bbs-3.19-bioc\R\bin\R.exe CMD check --no-multiarch --install=check:CCPlotR.install-out.txt --library=E:\biocbuild\bbs-3.19-bioc\R\library --no-vignettes --timings CCPlotR_1.2.0.tar.gz StartedAt: 2024-10-16 23:47:20 -0400 (Wed, 16 Oct 2024) EndedAt: 2024-10-16 23:49:35 -0400 (Wed, 16 Oct 2024) EllapsedTime: 134.9 seconds RetCode: 0 Status: OK CheckDir: CCPlotR.Rcheck Warnings: 0