Package: CFAssay Version: 1.38.0 Command: /Library/Frameworks/R.framework/Resources/bin/R CMD build --keep-empty-dirs --no-resave-data CFAssay StartedAt: 2024-10-16 21:12:30 -0400 (Wed, 16 Oct 2024) EndedAt: 2024-10-16 21:12:43 -0400 (Wed, 16 Oct 2024) EllapsedTime: 12.6 seconds RetCode: 0 Status: OK PackageFile: CFAssay_1.38.0.tar.gz PackageFileSize: 322.8 KiB