Package: CFAssay Version: 1.38.0 Command: /Library/Frameworks/R.framework/Resources/bin/R CMD check --install=check:CFAssay.install-out.txt --library=/Library/Frameworks/R.framework/Resources/library --no-vignettes --timings CFAssay_1.38.0.tar.gz StartedAt: 2024-10-17 15:40:01 -0400 (Thu, 17 Oct 2024) EndedAt: 2024-10-17 15:40:37 -0400 (Thu, 17 Oct 2024) EllapsedTime: 36.4 seconds RetCode: 0 Status: OK CheckDir: CFAssay.Rcheck Warnings: 0