Package: CFAssay Version: 1.38.0 Command: rm -rf CFAssay.buildbin-libdir && mkdir CFAssay.buildbin-libdir && /Users/biocbuild/BBS/utils/build-universal.sh CFAssay_1.38.0.tar.gz /Library/Frameworks/R.framework/Resources/bin/R CFAssay.buildbin-libdir StartedAt: 2024-10-17 15:49:25 -0400 (Thu, 17 Oct 2024) EndedAt: 2024-10-17 15:49:32 -0400 (Thu, 17 Oct 2024) EllapsedTime: 7.6 seconds RetCode: 0 Status: OK PackageFile: CFAssay_1.38.0.tgz PackageFileSize: 398.1 KiB