Package: CFAssay Version: 1.38.0 Command: /Library/Frameworks/R.framework/Resources/bin/R CMD build --keep-empty-dirs --no-resave-data CFAssay StartedAt: 2024-10-16 17:50:14 -0400 (Wed, 16 Oct 2024) EndedAt: 2024-10-16 17:50:35 -0400 (Wed, 16 Oct 2024) EllapsedTime: 21.3 seconds RetCode: 0 Status: OK PackageFile: CFAssay_1.38.0.tar.gz PackageFileSize: 322.8 KiB