Package: CFAssay Version: 1.38.0 Command: /home/biocbuild/bbs-3.19-bioc/R/bin/R CMD build --keep-empty-dirs --no-resave-data CFAssay StartedAt: 2024-10-16 17:38:09 -0400 (Wed, 16 Oct 2024) EndedAt: 2024-10-16 17:38:15 -0400 (Wed, 16 Oct 2024) EllapsedTime: 6.0 seconds RetCode: 0 Status: OK PackageFile: CFAssay_1.38.0.tar.gz PackageFileSize: 192.2 KiB