Package: CFAssay Version: 1.38.0 Command: /home/biocbuild/bbs-3.19-bioc/R/bin/R CMD check --install=check:CFAssay.install-out.txt --library=/home/biocbuild/bbs-3.19-bioc/R/site-library --timings CFAssay_1.38.0.tar.gz StartedAt: 2024-10-16 22:37:53 -0400 (Wed, 16 Oct 2024) EndedAt: 2024-10-16 22:38:13 -0400 (Wed, 16 Oct 2024) EllapsedTime: 20.1 seconds RetCode: 0 Status: OK CheckDir: CFAssay.Rcheck Warnings: 0