Package: CFAssay Version: 1.38.0 Command: /home/biocbuild/bbs-3.19-bioc/R/bin/R CMD INSTALL CFAssay StartedAt: 2024-10-16 15:53:59 -0400 (Wed, 16 Oct 2024) EndedAt: 2024-10-16 15:54:03 -0400 (Wed, 16 Oct 2024) EllapsedTime: 5.0 seconds RetCode: 0 Status: OK