Package: CGHbase Version: 1.64.0 Command: /Library/Frameworks/R.framework/Resources/bin/R CMD check --install=check:CGHbase.install-out.txt --library=/Library/Frameworks/R.framework/Resources/library --no-vignettes --timings CGHbase_1.64.0.tar.gz StartedAt: 2024-06-10 10:12:09 -0400 (Mon, 10 Jun 2024) EndedAt: 2024-06-10 10:13:31 -0400 (Mon, 10 Jun 2024) EllapsedTime: 81.5 seconds RetCode: 0 Status: OK CheckDir: CGHbase.Rcheck Warnings: 0