Package: CGHcall Version: 2.66.0 Command: rm -rf CGHcall.buildbin-libdir && mkdir CGHcall.buildbin-libdir && E:\biocbuild\bbs-3.19-bioc\R\bin\R.exe CMD INSTALL --build --library=CGHcall.buildbin-libdir CGHcall_2.66.0.tar.gz StartedAt: 2024-10-17 07:31:02 -0400 (Thu, 17 Oct 2024) EndedAt: 2024-10-17 07:31:11 -0400 (Thu, 17 Oct 2024) EllapsedTime: 8.2 seconds RetCode: 0 Status: OK PackageFile: CGHcall_2.66.0.zip PackageFileSize: 421.5 KiB