Package: CGHcall Version: 2.66.0 Command: E:\biocbuild\bbs-3.19-bioc\R\bin\R.exe CMD check --no-multiarch --install=check:CGHcall.install-out.txt --library=E:\biocbuild\bbs-3.19-bioc\R\library --no-vignettes --timings CGHcall_2.66.0.tar.gz StartedAt: 2024-10-16 23:53:41 -0400 (Wed, 16 Oct 2024) EndedAt: 2024-10-16 23:54:28 -0400 (Wed, 16 Oct 2024) EllapsedTime: 46.8 seconds RetCode: 0 Status: WARNINGS CheckDir: CGHcall.Rcheck Warnings: 1