Package: CIMICE Version: 1.12.0 Command: chmod a+r CIMICE -R && E:\biocbuild\bbs-3.19-bioc\R\bin\R.exe CMD build --keep-empty-dirs --no-resave-data CIMICE StartedAt: 2024-10-16 18:12:57 -0400 (Wed, 16 Oct 2024) EndedAt: 2024-10-16 18:13:39 -0400 (Wed, 16 Oct 2024) EllapsedTime: 42.2 seconds RetCode: 0 Status: OK PackageFile: CIMICE_1.12.0.tar.gz PackageFileSize: 1.302 MiB