Package: CMA Version: 1.62.0 Command: rm -rf CMA.buildbin-libdir && mkdir CMA.buildbin-libdir && /Users/biocbuild/BBS/utils/build-universal.sh CMA_1.62.0.tar.gz /Library/Frameworks/R.framework/Resources/bin/R CMA.buildbin-libdir StartedAt: 2024-10-18 17:50:20 -0400 (Fri, 18 Oct 2024) EndedAt: 2024-10-18 17:50:41 -0400 (Fri, 18 Oct 2024) EllapsedTime: 20.3 seconds RetCode: 0 Status: OK PackageFile: CMA_1.62.0.tgz PackageFileSize: 1.887 MiB