Package: CMA Version: 1.62.0 Command: /Library/Frameworks/R.framework/Resources/bin/R CMD check --install=check:CMA.install-out.txt --library=/Library/Frameworks/R.framework/Resources/library --no-vignettes --timings CMA_1.62.0.tar.gz StartedAt: 2024-06-09 19:29:51 -0400 (Sun, 09 Jun 2024) EndedAt: 2024-06-09 19:31:01 -0400 (Sun, 09 Jun 2024) EllapsedTime: 69.2 seconds RetCode: 0 Status: OK CheckDir: CMA.Rcheck Warnings: 0