Package: CNAnorm Version: 1.50.0 Command: /Library/Frameworks/R.framework/Resources/bin/R CMD check --install=check:CNAnorm.install-out.txt --library=/Library/Frameworks/R.framework/Resources/library --no-vignettes --timings CNAnorm_1.50.0.tar.gz StartedAt: 2024-10-17 16:40:00 -0400 (Thu, 17 Oct 2024) EndedAt: 2024-10-17 16:41:06 -0400 (Thu, 17 Oct 2024) EllapsedTime: 66.0 seconds RetCode: 0 Status: OK CheckDir: CNAnorm.Rcheck Warnings: 0