Package: CNAnorm Version: 1.50.0 Command: rm -rf CNAnorm.buildbin-libdir && mkdir CNAnorm.buildbin-libdir && /Users/biocbuild/BBS/utils/build-universal.sh CNAnorm_1.50.0.tar.gz /Library/Frameworks/R.framework/Resources/bin/R CNAnorm.buildbin-libdir StartedAt: 2024-06-11 10:38:13 -0400 (Tue, 11 Jun 2024) EndedAt: 2024-06-11 10:38:32 -0400 (Tue, 11 Jun 2024) EllapsedTime: 18.6 seconds RetCode: 0 Status: OK PackageFile: CNAnorm_1.50.0.tgz PackageFileSize: 1.846 MiB