Package: CNAnorm Version: 1.50.0 Command: rm -rf CNAnorm.buildbin-libdir && mkdir CNAnorm.buildbin-libdir && /Users/biocbuild/BBS/utils/build-universal.sh CNAnorm_1.50.0.tar.gz /Library/Frameworks/R.framework/Resources/bin/R CNAnorm.buildbin-libdir StartedAt: 2024-10-17 15:52:47 -0400 (Thu, 17 Oct 2024) EndedAt: 2024-10-17 15:53:06 -0400 (Thu, 17 Oct 2024) EllapsedTime: 18.8 seconds RetCode: 0 Status: OK PackageFile: CNAnorm_1.50.0.tgz PackageFileSize: 1.842 MiB