Package: CNAnorm Version: 1.50.0 Command: /home/biocbuild/bbs-3.19-bioc/R/bin/R CMD build --keep-empty-dirs --no-resave-data CNAnorm StartedAt: 2024-10-16 17:51:54 -0400 (Wed, 16 Oct 2024) EndedAt: 2024-10-16 17:52:11 -0400 (Wed, 16 Oct 2024) EllapsedTime: 16.0 seconds RetCode: 0 Status: OK PackageFile: CNAnorm_1.50.0.tar.gz PackageFileSize: 1.41 MiB