Package: CNAnorm Version: 1.50.0 Command: rm -rf CNAnorm.buildbin-libdir && mkdir CNAnorm.buildbin-libdir && F:\biocbuild\bbs-3.19-bioc\R\bin\R.exe CMD INSTALL --build --library=CNAnorm.buildbin-libdir CNAnorm_1.50.0.tar.gz StartedAt: 2024-06-27 08:00:57 -0400 (Thu, 27 Jun 2024) EndedAt: 2024-06-27 08:01:18 -0400 (Thu, 27 Jun 2024) EllapsedTime: 21.3 seconds RetCode: 0 Status: OK PackageFile: CNAnorm_1.50.0.zip PackageFileSize: 1.743 MiB