Package: CNAnorm Version: 1.50.0 Command: chmod a+r CNAnorm -R && F:\biocbuild\bbs-3.19-bioc\R\bin\R.exe CMD build --keep-empty-dirs --no-resave-data CNAnorm StartedAt: 2024-06-26 17:53:47 -0400 (Wed, 26 Jun 2024) EndedAt: 2024-06-26 17:54:17 -0400 (Wed, 26 Jun 2024) EllapsedTime: 30.0 seconds RetCode: 0 Status: OK PackageFile: CNAnorm_1.50.0.tar.gz PackageFileSize: 1.412 MiB