Package: CNEr Version: 1.40.0 Command: /Library/Frameworks/R.framework/Resources/bin/R CMD check --install=check:CNEr.install-out.txt --library=/Library/Frameworks/R.framework/Resources/library --no-vignettes --timings CNEr_1.40.0.tar.gz StartedAt: 2024-10-17 16:41:06 -0400 (Thu, 17 Oct 2024) EndedAt: 2024-10-17 16:53:18 -0400 (Thu, 17 Oct 2024) EllapsedTime: 731.2 seconds RetCode: 1 Status: ERROR CheckDir: CNEr.Rcheck Warnings: NA