Package: CNEr Version: 1.40.0 Command: rm -rf CNEr.buildbin-libdir && mkdir CNEr.buildbin-libdir && /Users/biocbuild/BBS/utils/build-universal.sh CNEr_1.40.0.tar.gz /Library/Frameworks/R.framework/Resources/bin/R CNEr.buildbin-libdir StartedAt: 2024-06-10 00:12:01 -0400 (Mon, 10 Jun 2024) EndedAt: 2024-06-10 00:13:14 -0400 (Mon, 10 Jun 2024) EllapsedTime: 73.6 seconds RetCode: 0 Status: OK PackageFile: CNEr_1.40.0.tgz PackageFileSize: 10.49 MiB