Package: CNEr Version: 1.40.0 Command: /Library/Frameworks/R.framework/Resources/bin/R CMD build --keep-empty-dirs --no-resave-data CNEr StartedAt: 2024-10-16 18:04:16 -0400 (Wed, 16 Oct 2024) EndedAt: 2024-10-16 18:08:43 -0400 (Wed, 16 Oct 2024) EllapsedTime: 266.8 seconds RetCode: 0 Status: OK PackageFile: CNEr_1.40.0.tar.gz PackageFileSize: 9.599 MiB