Package: CNEr Version: 1.40.0 Command: rm -rf CNEr.buildbin-libdir && mkdir CNEr.buildbin-libdir && E:\biocbuild\bbs-3.19-bioc\R\bin\R.exe CMD INSTALL --build --library=CNEr.buildbin-libdir CNEr_1.40.0.tar.gz StartedAt: 2024-10-17 07:33:51 -0400 (Thu, 17 Oct 2024) EndedAt: 2024-10-17 07:35:26 -0400 (Thu, 17 Oct 2024) EllapsedTime: 94.8 seconds RetCode: 0 Status: OK PackageFile: CNEr_1.40.0.zip PackageFileSize: 10.07 MiB