Package: CNEr Version: 1.40.0 Command: chmod a+r CNEr -R && E:\biocbuild\bbs-3.19-bioc\R\bin\R.exe CMD build --keep-empty-dirs --no-resave-data CNEr StartedAt: 2024-10-16 18:17:09 -0400 (Wed, 16 Oct 2024) EndedAt: 2024-10-16 18:19:57 -0400 (Wed, 16 Oct 2024) EllapsedTime: 167.9 seconds RetCode: 0 Status: OK PackageFile: CNEr_1.40.0.tar.gz PackageFileSize: 9.282 MiB