Package: CNEr Version: 1.40.0 Command: E:\biocbuild\bbs-3.19-bioc\R\bin\R.exe CMD check --no-multiarch --install=check:CNEr.install-out.txt --library=E:\biocbuild\bbs-3.19-bioc\R\library --no-vignettes --timings CNEr_1.40.0.tar.gz StartedAt: 2024-10-17 00:08:46 -0400 (Thu, 17 Oct 2024) EndedAt: 2024-10-17 00:20:01 -0400 (Thu, 17 Oct 2024) EllapsedTime: 675.0 seconds RetCode: 0 Status: WARNINGS CheckDir: CNEr.Rcheck Warnings: 2