Package: CNORfeeder Version: 1.44.0 Command: /home/biocbuild/bbs-3.19-bioc/R/bin/R CMD INSTALL CNORfeeder StartedAt: 2024-10-16 16:18:00 -0400 (Wed, 16 Oct 2024) EndedAt: 2024-10-16 16:18:08 -0400 (Wed, 16 Oct 2024) EllapsedTime: 7.7 seconds RetCode: 0 Status: OK