Package: CNORfeeder Version: 1.44.0 Command: rm -rf CNORfeeder.buildbin-libdir && mkdir CNORfeeder.buildbin-libdir && E:\biocbuild\bbs-3.19-bioc\R\bin\R.exe CMD INSTALL --build --library=CNORfeeder.buildbin-libdir CNORfeeder_1.44.0.tar.gz StartedAt: 2024-10-17 07:34:00 -0400 (Thu, 17 Oct 2024) EndedAt: 2024-10-17 07:34:22 -0400 (Thu, 17 Oct 2024) EllapsedTime: 21.8 seconds RetCode: 0 Status: OK PackageFile: CNORfeeder_1.44.0.zip PackageFileSize: 1.966 MiB