Package: CNORfuzzy Version: 1.46.0 Command: E:\biocbuild\bbs-3.19-bioc\R\bin\R.exe CMD check --no-multiarch --install=check:CNORfuzzy.install-out.txt --library=E:\biocbuild\bbs-3.19-bioc\R\library --no-vignettes --timings CNORfuzzy_1.46.0.tar.gz StartedAt: 2024-10-17 00:08:57 -0400 (Thu, 17 Oct 2024) EndedAt: 2024-10-17 00:10:29 -0400 (Thu, 17 Oct 2024) EllapsedTime: 91.9 seconds RetCode: 0 Status: OK CheckDir: CNORfuzzy.Rcheck Warnings: 0