Package: CNVgears Version: 1.12.0 Command: rm -rf CNVgears.buildbin-libdir && mkdir CNVgears.buildbin-libdir && /Users/biocbuild/BBS/utils/build-universal.sh CNVgears_1.12.0.tar.gz /Library/Frameworks/R.framework/Resources/bin/R CNVgears.buildbin-libdir StartedAt: 2024-10-17 15:53:25 -0400 (Thu, 17 Oct 2024) EndedAt: 2024-10-17 15:53:44 -0400 (Thu, 17 Oct 2024) EllapsedTime: 19.2 seconds RetCode: 0 Status: OK PackageFile: CNVgears_1.12.0.tgz PackageFileSize: 2.589 MiB