Package: CNVgears Version: 1.12.0 Command: rm -rf CNVgears.buildbin-libdir && mkdir CNVgears.buildbin-libdir && E:\biocbuild\bbs-3.19-bioc\R\bin\R.exe CMD INSTALL --build --library=CNVgears.buildbin-libdir CNVgears_1.12.0.tar.gz StartedAt: 2024-10-17 07:34:07 -0400 (Thu, 17 Oct 2024) EndedAt: 2024-10-17 07:34:26 -0400 (Thu, 17 Oct 2024) EllapsedTime: 18.9 seconds RetCode: 0 Status: OK PackageFile: CNVgears_1.12.0.zip PackageFileSize: 2.544 MiB