Package: CNVgears Version: 1.12.0 Command: E:\biocbuild\bbs-3.19-bioc\R\bin\R.exe CMD INSTALL CNVgears StartedAt: 2024-10-16 16:08:23 -0400 (Wed, 16 Oct 2024) EndedAt: 2024-10-16 16:08:43 -0400 (Wed, 16 Oct 2024) EllapsedTime: 19.8 seconds RetCode: 0 Status: OK