Package: CNVrd2 Version: 1.42.0 Maintainer: Hoang Tan Nguyen MaintainerEmail: hoangtannguyenvn at gmail.com git_url: https://git.bioconductor.org/packages/CNVrd2 git_branch: RELEASE_3_19 git_last_commit: db25c12 git_last_commit_date: 2024-04-30 10:34:20 -0400 (Tue, 30 Apr 2024)